BEGIN:VCALENDAR
VERSION:2.0
PRODID:-//BEREC//Berec App//EN
CALSCALE:GREGORIAN
BEGIN:VEVENT
DTSTART:20191001T210000Z
DTEND:20191002T205959Z
SUMMARY:40th BEREC ordinary plenary meetings in Crete, Greece
DESCRIPTION:The 40th BEREC and BEREC Office Management Board ordinary  meetings took place on 2-4 October 2019 in Crete, Greece,&amp;nbsp;kindly hosted by the  Hellenic Telecommunications and Post Commission (EETT). Prior the BEREC ordinary meetings, BEREC and...\nRead more: https://www.berec.europa.eu/index%2Ephp/en/events/berec-events-2019/40th-berec-ordinary-plenary-meetings-in-crete-greece
X-ALT-DESC;FMTTYPE=text/html:<!doctype html><html><body>The 40th BEREC and BEREC Office Management Board ordinary  meetings took place on 2-4 October 2019 in Crete, Greece,&amp;nbsp;kindly hosted by the  Hellenic Telecommunications and Post Commission (EETT). Prior the BEREC ordinary meetings, BEREC and...<br/><a href="https://www.berec.europa.eu/index%2Ephp/en/events/berec-events-2019/40th-berec-ordinary-plenary-meetings-in-crete-greece" hreflang="en">Read more</a></body></html>
LOCATION:Crete, Greece 
END:VEVENT
END:VCALENDAR