BEGIN:VCALENDAR
VERSION:2.0
PRODID:-//BEREC//Berec App//EN
CALSCALE:GREGORIAN
BEGIN:VEVENT
DTSTART:20260521T113000Z
DTEND:20260521T140000Z
SUMMARY:Day 1 - BEREC external workshop on combatting fraud
DESCRIPTION:REGISTER    On Thursday, 21 May 2026, from 13:30 to 16:00, BEREC will hold an external stakeholder workshop on combatting fraud, organised by the BEREC Cybersecurity and Resilience Working Group, co-chaired by Katja Kmet Vrcko...\nRead more: https://www.berec.europa.eu/index%2ephp/en/events/berec-external-workshop-on-combatting-fraud
X-ALT-DESC;FMTTYPE=text/html:<!doctype html><html><body>REGISTER    On Thursday, 21 May 2026, from 13:30 to 16:00, BEREC will hold an external stakeholder workshop on combatting fraud, organised by the BEREC Cybersecurity and Resilience Working Group, co-chaired by Katja Kmet Vrcko...<br/><a href="https://www.berec.europa.eu/index%2ephp/en/events/berec-external-workshop-on-combatting-fraud" hreflang="en">Read more</a></body></html>
LOCATION:Online
END:VEVENT
END:VCALENDAR